BEGIN:VCALENDAR
VERSION:2.0
PRODID:-//Beach Volley Bgd - ECPv6.15.12.2//NONSGML v1.0//EN
CALSCALE:GREGORIAN
METHOD:PUBLISH
X-WR-CALNAME:Beach Volley Bgd
X-ORIGINAL-URL:https://www.beachvolleybgd.com
X-WR-CALDESC:Events for Beach Volley Bgd
REFRESH-INTERVAL;VALUE=DURATION:PT1H
X-Robots-Tag:noindex
X-PUBLISHED-TTL:PT1H
BEGIN:VTIMEZONE
TZID:Europe/Belgrade
BEGIN:DAYLIGHT
TZOFFSETFROM:+0100
TZOFFSETTO:+0200
TZNAME:CEST
DTSTART:20240331T010000
END:DAYLIGHT
BEGIN:STANDARD
TZOFFSETFROM:+0200
TZOFFSETTO:+0100
TZNAME:CET
DTSTART:20241027T010000
END:STANDARD
BEGIN:DAYLIGHT
TZOFFSETFROM:+0100
TZOFFSETTO:+0200
TZNAME:CEST
DTSTART:20250330T010000
END:DAYLIGHT
BEGIN:STANDARD
TZOFFSETFROM:+0200
TZOFFSETTO:+0100
TZNAME:CET
DTSTART:20251026T010000
END:STANDARD
BEGIN:DAYLIGHT
TZOFFSETFROM:+0100
TZOFFSETTO:+0200
TZNAME:CEST
DTSTART:20260329T010000
END:DAYLIGHT
BEGIN:STANDARD
TZOFFSETFROM:+0200
TZOFFSETTO:+0100
TZNAME:CET
DTSTART:20261025T010000
END:STANDARD
END:VTIMEZONE
BEGIN:VEVENT
DTSTART;TZID=Europe/Belgrade:20250726T090000
DTEND;TZID=Europe/Belgrade:20250726T190000
DTSTAMP:20260419T215316
CREATED:20250512T070042Z
LAST-MODIFIED:20250630T221727Z
UID:89-1753520400-1753556400@www.beachvolleybgd.com
SUMMARY:Turnir 2x2 Mix
DESCRIPTION:Turnir će biti organizovan u mix konkurencije (2×2) na nama dobro poznatoj lokaciji. Na vama je da dodjete\, a na nama je da obećamo zanimljive mečeve\,atraktivne poene\, nagradne igre i dobro druženje pre svega uz muziku i lep ambijent.
URL:https://www.beachvolleybgd.com/event/turnir-2x2/
ATTACH;FMTTYPE=image/jpeg:https://www.beachvolleybgd.com/wp-content/uploads/2025/04/t1.jpg
END:VEVENT
BEGIN:VEVENT
DTSTART;TZID=Europe/Belgrade:20250614T160000
DTEND;TZID=Europe/Belgrade:20250614T210000
DTSTAMP:20260419T215316
CREATED:20250410T161707Z
LAST-MODIFIED:20250612T082300Z
UID:91-1749916800-1749934800@www.beachvolleybgd.com
SUMMARY:Turnir 3x3 Mix
DESCRIPTION:Turnir će biti organizovan u mix konkurencije (3×3) na nama dobro poznatoj lokaciji. Na vama je da dodjete\, a na nama je da obećamo zanimljive mečeve\,atraktivne poene\, nagradne igre i dobro druženje pre svega uz muziku i lep ambijent.
URL:https://www.beachvolleybgd.com/event/turnir-2x2-mix/
ATTACH;FMTTYPE=image/jpeg:https://www.beachvolleybgd.com/wp-content/uploads/2025/04/t1.jpg
END:VEVENT
BEGIN:VEVENT
DTSTART;VALUE=DATE:20250531
DTEND;VALUE=DATE:20250601
DTSTAMP:20260419T215316
CREATED:20250410T161803Z
LAST-MODIFIED:20250410T164806Z
UID:93-1748649600-1748735999@www.beachvolleybgd.com
SUMMARY:Odbojka iz bloka
DESCRIPTION:Sa zadovoljstvom i ove godine najavljujemo humanitarni turnir „ODBOJKA IZ BLOKA“. Kao i prošle godine\, sav prihod od turnira i raznih drugih aktivnosti koje će biti organizovane 31. Maja\, ićiće najugroženim porodicama širom Balkana. Lokacija dogadjaja nam je dobro poznata\, Shark Licence to Chill\, smešten na Adi Ciganliji. Dobrodošli ste svi\, da se uz lepo družimenje učini i neko lepo delo.
URL:https://www.beachvolleybgd.com/event/odbojka-iz-bloka/
ATTACH;FMTTYPE=image/png:https://www.beachvolleybgd.com/wp-content/uploads/2025/04/0c2f08_dafe356da78044ffa80a4b71ab652952mv2.png
END:VEVENT
END:VCALENDAR